BEGIN:VCALENDAR
VERSION:2.0
PRODID:-//Central Division - ECPv6.15.20//NONSGML v1.0//EN
CALSCALE:GREGORIAN
METHOD:PUBLISH
X-WR-CALNAME:Central Division
X-ORIGINAL-URL:https://cendiv-scca.org
X-WR-CALDESC:Events for Central Division
REFRESH-INTERVAL;VALUE=DURATION:PT1H
X-Robots-Tag:noindex
X-PUBLISHED-TTL:PT1H
BEGIN:VTIMEZONE
TZID:America/Chicago
BEGIN:DAYLIGHT
TZOFFSETFROM:-0600
TZOFFSETTO:-0500
TZNAME:CDT
DTSTART:20250309T080000
END:DAYLIGHT
BEGIN:STANDARD
TZOFFSETFROM:-0500
TZOFFSETTO:-0600
TZNAME:CST
DTSTART:20251102T070000
END:STANDARD
BEGIN:DAYLIGHT
TZOFFSETFROM:-0600
TZOFFSETTO:-0500
TZNAME:CDT
DTSTART:20260308T080000
END:DAYLIGHT
BEGIN:STANDARD
TZOFFSETFROM:-0500
TZOFFSETTO:-0600
TZNAME:CST
DTSTART:20261101T070000
END:STANDARD
BEGIN:DAYLIGHT
TZOFFSETFROM:-0600
TZOFFSETTO:-0500
TZNAME:CDT
DTSTART:20270314T080000
END:DAYLIGHT
BEGIN:STANDARD
TZOFFSETFROM:-0500
TZOFFSETTO:-0600
TZNAME:CST
DTSTART:20271107T070000
END:STANDARD
END:VTIMEZONE
BEGIN:VEVENT
DTSTART;VALUE=DATE:20260515
DTEND;VALUE=DATE:20260518
DTSTAMP:20260420T031045
CREATED:20260309T200351Z
LAST-MODIFIED:20260412T204206Z
UID:161531-1778803200-1779062399@cendiv-scca.org
SUMMARY:Time Trials 1 & 2 at Milwaukee Mile
DESCRIPTION:BE PART OF THE ACTION at the MILWAUKEE MILE TIME TRIAL!!\nThis Time Trial is part of a multi-event Championship Series.\n\nDrivers must compete in 3 of the 4 events to be eligible for championship consideration. \nCenDiv Time Trial #1 is Friday\, May 15 at the Milwaukee Mile!  REGISTER HERE.\nCenDiv Time Trial #2 is Saturday\, May 16 at the Milwaukee Mile!  REGISTER HERE.\nCenDiv Time Trial #3 is August 1 and 2 at Autobahn Country Club as part of the SCCA National Time Attack Challenge Tour.\nCenDiv Time Trial #4 is Sunday\, October 11\, 2026 at Blackhawk Farms Raceway! \n\nShare this:Like this:Like Loading...
URL:https://cendiv-scca.org/event/time-trial-at-milwaukee-mile/
LOCATION:Milwaukee Mile\, 7722 W Greenfield Ave\, West Allis\, WI\, 53214\, United States
CATEGORIES:Time Trials
ATTACH;FMTTYPE=image/png:https://cendiv-scca.org/wp-content/uploads/Screenshot-2026-03-09-150212.png
END:VEVENT
END:VCALENDAR